BEGIN:VCALENDAR
VERSION:2.0
PRODID:-//Bildungsplan Brandenburg - ECPv6.15.11//NONSGML v1.0//EN
CALSCALE:GREGORIAN
METHOD:PUBLISH
X-WR-CALNAME:Bildungsplan Brandenburg
X-ORIGINAL-URL:https://bildungsplan-brandenburg.de
X-WR-CALDESC:Veranstaltungen für Bildungsplan Brandenburg
REFRESH-INTERVAL;VALUE=DURATION:PT1H
X-Robots-Tag:noindex
X-PUBLISHED-TTL:PT1H
BEGIN:VTIMEZONE
TZID:Europe/Berlin
BEGIN:DAYLIGHT
TZOFFSETFROM:+0100
TZOFFSETTO:+0200
TZNAME:CEST
DTSTART:20250330T010000
END:DAYLIGHT
BEGIN:STANDARD
TZOFFSETFROM:+0200
TZOFFSETTO:+0100
TZNAME:CET
DTSTART:20251026T010000
END:STANDARD
BEGIN:DAYLIGHT
TZOFFSETFROM:+0100
TZOFFSETTO:+0200
TZNAME:CEST
DTSTART:20260329T010000
END:DAYLIGHT
BEGIN:STANDARD
TZOFFSETFROM:+0200
TZOFFSETTO:+0100
TZNAME:CET
DTSTART:20261025T010000
END:STANDARD
BEGIN:DAYLIGHT
TZOFFSETFROM:+0100
TZOFFSETTO:+0200
TZNAME:CEST
DTSTART:20270328T010000
END:DAYLIGHT
BEGIN:STANDARD
TZOFFSETFROM:+0200
TZOFFSETTO:+0100
TZNAME:CET
DTSTART:20271031T010000
END:STANDARD
END:VTIMEZONE
BEGIN:VEVENT
DTSTART;TZID=Europe/Berlin:20260420T090000
DTEND;TZID=Europe/Berlin:20260420T120000
DTSTAMP:20260420T113641
CREATED:20251204T163017Z
LAST-MODIFIED:20260420T065502Z
UID:10000988-1776675600-1776686400@bildungsplan-brandenburg.de
SUMMARY:Ausruhen und Schlafen
DESCRIPTION:„Im Alltag der Kindertagesbetreuung müssen Kinder sich ausruhen können\, denn sie haben das Recht auf Ruhe und Erholung (vgl. Art. 31 UN KRK). […] In der Gestaltung dieser Alltagssituation kommt es darauf an\, den Kindern größtmögliche Mitsprache dabei einzuräumen\, ob\, wann\, wie und wo sie schlafen oder ruhen wollen\, und die Abläufe konsequent an die Bedürfnisse der Kinder anzupassen.“  (Brandenburger Bildungsplan\, S. 74) \nDie pädagogische Alltagssituation „Ausruhen und Schlafen“ gehört zu den Zentralen Autonomie-Situationen im Brandenburger Bildungsplan. Diese Fortbildung bietet die Möglichkeit\, den neuen Bildungsplan kennenzulernen und eigene pädagogische Handlungsmöglichkeiten in Ruhe- und Schlafsituationen zu erweitern. Dabei werden gemeinsam praxisnahe Ideen und Impulse zur Gestaltung einer partizipativen Bildungsumgebung erarbeitet\, zugleich bleibt ausreichend Raum für Austausch und Reflexion. \nBei dieser Fortbildung handelt es sich um eine dreistündige Online-Veranstaltung (4 Unterrichtseinheiten à 45 Minuten). \nDie Online-Veranstaltungen werden mit dem Online-Konferenz-Werkzeug „Zoom” durchgeführt. Um teilzunehmen\, können Sie sich auf dieser Seite oben rechts unter „Jetzt anmelden“ anmelden und erhalten eine Anmeldebestätigung mit entsprechendem Zugang. Sie benötigen einen internetfähigen Computer mit Ton-Ausgabe und möglichst auch mit Kamera.
URL:https://bildungsplan-brandenburg.de/event/ausruhen-und-schlafen-7/
ATTACH;FMTTYPE=image/jpeg:https://bildungsplan-brandenburg.de/wp-content/uploads/2025/01/78_Schlafen_Bildungsplan-Brandenburg_Menschenskinder.jpeg
END:VEVENT
END:VCALENDAR